BEGIN:VCALENDAR
VERSION:2.0
PRODID:-//Smelling Salts Journal - ECPv6.15.20//NONSGML v1.0//EN
CALSCALE:GREGORIAN
METHOD:PUBLISH
X-ORIGINAL-URL:https://www.smellingsaltsjournal.com
X-WR-CALDESC:Events for Smelling Salts Journal
REFRESH-INTERVAL;VALUE=DURATION:PT1H
X-Robots-Tag:noindex
X-PUBLISHED-TTL:PT1H
BEGIN:VTIMEZONE
TZID:America/Toronto
BEGIN:DAYLIGHT
TZOFFSETFROM:-0500
TZOFFSETTO:-0400
TZNAME:EDT
DTSTART:20210314T070000
END:DAYLIGHT
BEGIN:STANDARD
TZOFFSETFROM:-0400
TZOFFSETTO:-0500
TZNAME:EST
DTSTART:20211107T060000
END:STANDARD
BEGIN:DAYLIGHT
TZOFFSETFROM:-0500
TZOFFSETTO:-0400
TZNAME:EDT
DTSTART:20220313T070000
END:DAYLIGHT
BEGIN:STANDARD
TZOFFSETFROM:-0400
TZOFFSETTO:-0500
TZNAME:EST
DTSTART:20221106T060000
END:STANDARD
BEGIN:DAYLIGHT
TZOFFSETFROM:-0500
TZOFFSETTO:-0400
TZNAME:EDT
DTSTART:20230312T070000
END:DAYLIGHT
BEGIN:STANDARD
TZOFFSETFROM:-0400
TZOFFSETTO:-0500
TZNAME:EST
DTSTART:20231105T060000
END:STANDARD
END:VTIMEZONE
BEGIN:VEVENT
DTSTART;TZID=America/Toronto:20221210T000000
DTEND;TZID=America/Toronto:20221210T235959
DTSTAMP:20260416T090906
CREATED:20221209T050200Z
LAST-MODIFIED:20221206T120618Z
UID:8077-1670630400-1670716799@www.smellingsaltsjournal.com
SUMMARY:Advent 2022\, December 9\, Black & White Street Photography
DESCRIPTION:Black and White Street Photography Day!!\n\n\n\nRead the Post \n\n\n\n\n\n\n\nSSJ Advent 2022\, All the Posts SSJ Advent 2022\, Calendar View
URL:https://www.smellingsaltsjournal.com/event/advent-2022-december-9-black-white-street-photography/
CATEGORIES:Advent Calendar 2022
ATTACH;FMTTYPE=image/jpeg:https://www.smellingsaltsjournal.com/wp-content/uploads/2022/11/BW2022.jpg
END:VEVENT
END:VCALENDAR