BEGIN:VCALENDAR
VERSION:2.0
PRODID:-//Smelling Salts Journal - ECPv6.15.20//NONSGML v1.0//EN
CALSCALE:GREGORIAN
METHOD:PUBLISH
X-ORIGINAL-URL:https://www.smellingsaltsjournal.com
X-WR-CALDESC:Events for Smelling Salts Journal
REFRESH-INTERVAL;VALUE=DURATION:PT1H
X-Robots-Tag:noindex
X-PUBLISHED-TTL:PT1H
BEGIN:VTIMEZONE
TZID:America/Toronto
BEGIN:DAYLIGHT
TZOFFSETFROM:-0500
TZOFFSETTO:-0400
TZNAME:EDT
DTSTART:20220313T070000
END:DAYLIGHT
BEGIN:STANDARD
TZOFFSETFROM:-0400
TZOFFSETTO:-0500
TZNAME:EST
DTSTART:20221106T060000
END:STANDARD
BEGIN:DAYLIGHT
TZOFFSETFROM:-0500
TZOFFSETTO:-0400
TZNAME:EDT
DTSTART:20230312T070000
END:DAYLIGHT
BEGIN:STANDARD
TZOFFSETFROM:-0400
TZOFFSETTO:-0500
TZNAME:EST
DTSTART:20231105T060000
END:STANDARD
BEGIN:DAYLIGHT
TZOFFSETFROM:-0500
TZOFFSETTO:-0400
TZNAME:EDT
DTSTART:20240310T070000
END:DAYLIGHT
BEGIN:STANDARD
TZOFFSETFROM:-0400
TZOFFSETTO:-0500
TZNAME:EST
DTSTART:20241103T060000
END:STANDARD
BEGIN:DAYLIGHT
TZOFFSETFROM:-0500
TZOFFSETTO:-0400
TZNAME:EDT
DTSTART:20250309T070000
END:DAYLIGHT
BEGIN:STANDARD
TZOFFSETFROM:-0400
TZOFFSETTO:-0500
TZNAME:EST
DTSTART:20251102T060000
END:STANDARD
END:VTIMEZONE
BEGIN:VEVENT
DTSTART;TZID=America/Toronto:20231127T000000
DTEND;TZID=America/Toronto:20231127T235959
DTSTAMP:20260415T024638
CREATED:20231127T101500Z
LAST-MODIFIED:20231120T164801Z
UID:10140-1701043200-1701129599@www.smellingsaltsjournal.com
SUMMARY:SSJ Advent 2023 Pre-Game: Top Ten Holiday Jars
DESCRIPTION:Check out SSJ’s Top 10 Holiday Jars for 2023!Read the post\n\n\n\n\n\n\n\nLook for SSJ’s Iconic Advent Love-to-do List on Thursday\, November 30th\, 2023SSJ’s 2023 Advent Calendar begins on Friday\, December 1st\, 2023\n\n\n\n\n\n\n\nSSJ ADVENT 2023\, ALL THE POSTSSSJ ADVENT 2023\, CALENDAR VIEW
URL:https://www.smellingsaltsjournal.com/event/ssj-advent-2023-pre-game-top-ten-holiday-jars/
CATEGORIES:Advent Calendar 2023
ATTACH;FMTTYPE=image/jpeg:https://www.smellingsaltsjournal.com/wp-content/uploads/2023/11/SSJ-Advent-2023-Top-10-Jars-for-2023.jpg
END:VEVENT
BEGIN:VEVENT
DTSTART;TZID=America/Toronto:20231128T000000
DTEND;TZID=America/Toronto:20231128T235959
DTSTAMP:20260415T024638
CREATED:20231128T100500Z
LAST-MODIFIED:20231120T164812Z
UID:10141-1701129600-1701215999@www.smellingsaltsjournal.com
SUMMARY:SSJ Advent 2023 Pre-Game: Top 20 Cookies and Bars
DESCRIPTION:Cookies and Bars! Cookies and Bars!Read the post\n\n\n\n\n\n\n\nLook for SSJ’s Iconic Advent Love-to-do List on Thursday\, November 30th\, 2023SSJ’s 2023 Advent Calendar begins on Friday\, December 1st\, 2023\n\n\n\n\n\n\n\nSSJ ADVENT 2023\, ALL THE POSTSSSJ ADVENT 2023\, CALENDAR VIEW
URL:https://www.smellingsaltsjournal.com/event/ssj-advent-2023-pre-game-top-20-cookies-and-bars/
CATEGORIES:Advent Calendar 2023
ATTACH;FMTTYPE=image/jpeg:https://www.smellingsaltsjournal.com/wp-content/uploads/2023/11/SSJAdvent2023-Top-20-Cookies-and-Bars-for-2023.jpg
END:VEVENT
BEGIN:VEVENT
DTSTART;TZID=America/Toronto:20231129T000000
DTEND;TZID=America/Toronto:20231129T235959
DTSTAMP:20260415T024638
CREATED:20231129T100500Z
LAST-MODIFIED:20231120T030922Z
UID:10112-1701216000-1701302399@www.smellingsaltsjournal.com
SUMMARY:SSJ Advent 2023: Holiday Gift Guide
DESCRIPTION:The SSJ Advent 2023 Holiday Gift Guide is Live!Read the post!\n\n\n\n\n\n\n\nSSJ ADVENT 2023\, ALL THE POSTSSSJ ADVENT 2023\, CALENDAR VIEW
URL:https://www.smellingsaltsjournal.com/event/ssj-advent-2023-holiday-gift-guide/
CATEGORIES:Advent Calendar 2023
ATTACH;FMTTYPE=image/jpeg:https://www.smellingsaltsjournal.com/wp-content/uploads/2023/11/SSjAdvent2023HolidayGiftGuide50ChristmasCluesforSanta.jpg
END:VEVENT
BEGIN:VEVENT
DTSTART;TZID=America/Toronto:20231130T000000
DTEND;TZID=America/Toronto:20231130T235959
DTSTAMP:20260415T024638
CREATED:20231130T100500Z
LAST-MODIFIED:20231119T193510Z
UID:10053-1701302400-1701388799@www.smellingsaltsjournal.com
SUMMARY:SSJ Advent 2023\, The Iconic Love-to-do List is LIVE!
DESCRIPTION:SSJ’s 2023 Advent Love-to-do List is now Live! And there’s a bonus Advent 2023 TBD to do TONIGHT!Read the post!\n\n\n\n\n\n\n\nSSJ ADVENT 2023\, ALL THE POSTSSSJ ADVENT 2023\, CALENDAR VIEW
URL:https://www.smellingsaltsjournal.com/event/ssj-advent-2023-the-iconic-love-to-do-list-is-live/
CATEGORIES:Advent Calendar 2023
ATTACH;FMTTYPE=image/jpeg:https://www.smellingsaltsjournal.com/wp-content/uploads/2023/11/SSjAdventLovetoDoList2023SSJsIconicLoveToDoList2023.jpg
END:VEVENT
BEGIN:VEVENT
DTSTART;TZID=America/Toronto:20231201T000000
DTEND;TZID=America/Toronto:20231201T235959
DTSTAMP:20260415T024638
CREATED:20231201T100100Z
LAST-MODIFIED:20231113T182501Z
UID:9543-1701388800-1701475199@www.smellingsaltsjournal.com
SUMMARY:SSJ Advent 2023\, Day 1: Festive DIY Painted Candles
DESCRIPTION:Today\, we’re painting festive candles! Read the post!\n\n\n\n\n\n\n\nSSJ ADVENT 2023\, ALL THE POSTSSSJ ADVENT 2023\, CALENDAR VIEW
URL:https://www.smellingsaltsjournal.com/event/ssj-advent-2023-day-1-festive-diy-painted-candles/
CATEGORIES:Advent Calendar 2023
ATTACH;FMTTYPE=image/jpeg:https://www.smellingsaltsjournal.com/wp-content/uploads/2023/12/SSJADVENT2023DAY1-DIY-Painted-Candles.jpg
END:VEVENT
BEGIN:VEVENT
DTSTART;TZID=America/Toronto:20231202T000000
DTEND;TZID=America/Toronto:20231202T235959
DTSTAMP:20260415T024638
CREATED:20231202T100500Z
LAST-MODIFIED:20231202T121951Z
UID:9545-1701475200-1701561599@www.smellingsaltsjournal.com
SUMMARY:SSJ Advent 2023\, Day 2: Karaoke and Clove Orange Pomanders
DESCRIPTION:Today\, we’re going to a Karaoke Party and making Clove Orange Pomanders! Read the post!\n\n\n\n\n\n\n\nSSJ ADVENT 2023\, ALL THE POSTSSSJ ADVENT 2023\, CALENDAR VIEW
URL:https://www.smellingsaltsjournal.com/event/ssj-advent-2023-day-2-karaoke-and-clove-orange-pomanders/
CATEGORIES:Advent Calendar 2023
ATTACH;FMTTYPE=image/jpeg:https://www.smellingsaltsjournal.com/wp-content/uploads/2023/11/SSJAdvent2023Day2KaraokeandCloveOrangePomandersHeader.jpg
END:VEVENT
BEGIN:VEVENT
DTSTART;TZID=America/Toronto:20231203T000000
DTEND;TZID=America/Toronto:20231203T235959
DTSTAMP:20260415T024638
CREATED:20231203T100500Z
LAST-MODIFIED:20231113T214157Z
UID:9552-1701561600-1701647999@www.smellingsaltsjournal.com
SUMMARY:SSJ Advent 2023\, Day 3: Concert and Cookbook Club
DESCRIPTION:Today\, we’ll attend a concert and have a micro-cookbook club! Read the post!\n\n\n\n\n\n\n\nSSJ ADVENT 2023\, ALL THE POSTSSSJ ADVENT 2023\, CALENDAR VIEW
URL:https://www.smellingsaltsjournal.com/event/ssj-advent-2023-day-3-concert-and-cookbook-club/
CATEGORIES:Advent Calendar 2023
ATTACH;FMTTYPE=image/jpeg:https://www.smellingsaltsjournal.com/wp-content/uploads/2023/11/SSJAdvent2023Day3ConcertandCookbookClub.jpg
END:VEVENT
BEGIN:VEVENT
DTSTART;TZID=America/Toronto:20231204T000000
DTEND;TZID=America/Toronto:20231204T235959
DTSTAMP:20260415T024638
CREATED:20231204T101000Z
LAST-MODIFIED:20231113T230219Z
UID:9565-1701648000-1701734399@www.smellingsaltsjournal.com
SUMMARY:SSJ Advent 2023\, Day 4: Make Cocktail Fixings
DESCRIPTION:Today\, we’re making cocktail fixings\, like this raspberry syrup! Read the post!\n\n\n\n\n\n\n\nSSJ ADVENT 2023\, ALL THE POSTSSSJ ADVENT 2023\, CALENDAR VIEW
URL:https://www.smellingsaltsjournal.com/event/ssj-advent-2023-day-4-make-cocktail-fixings/
CATEGORIES:Advent Calendar 2023
ATTACH;FMTTYPE=image/jpeg:https://www.smellingsaltsjournal.com/wp-content/uploads/2023/11/SSJAdvent2023Day4CocktailFixingsRaspberrySyrupandmore.jpg
END:VEVENT
BEGIN:VEVENT
DTSTART;TZID=America/Toronto:20231205T000000
DTEND;TZID=America/Toronto:20231205T235959
DTSTAMP:20260415T024638
CREATED:20231205T100500Z
LAST-MODIFIED:20231114T002216Z
UID:9595-1701734400-1701820799@www.smellingsaltsjournal.com
SUMMARY:SSJ Advent 2023\, Day 5: Support the Daily Bread Food Bank
DESCRIPTION:Today\, we give to the Daily Bread Food Bank! Read the post!\n\n\n\n\n\n\n\nSSJ ADVENT 2023\, ALL THE POSTSSSJ ADVENT 2023\, CALENDAR VIEW
URL:https://www.smellingsaltsjournal.com/event/ssj-advent-2023-day-5-support-the-daily-bread-food-bank/
CATEGORIES:Advent Calendar 2023
ATTACH;FMTTYPE=image/jpeg:https://www.smellingsaltsjournal.com/wp-content/uploads/2023/11/SSJAdvent2023Day5SupportheDailyBreadFoodBank.jpg
END:VEVENT
BEGIN:VEVENT
DTSTART;TZID=America/Toronto:20231206T000000
DTEND;TZID=America/Toronto:20231206T235959
DTSTAMP:20260415T024638
CREATED:20231206T100500Z
LAST-MODIFIED:20231130T231159Z
UID:9600-1701820800-1701907199@www.smellingsaltsjournal.com
SUMMARY:SSJ Advent 2023\, Day 6: Visit the Gardiner Museum
DESCRIPTION:Today\, we’re visiting the Gardiner Museum!Read the post!\n\n\n\n\n\n\n\nSSJ ADVENT 2023\, ALL THE POSTSSSJ ADVENT 2023\, CALENDAR VIEW
URL:https://www.smellingsaltsjournal.com/event/ssj-advent-2023-day-6-visit-the-gardiner-museum/
CATEGORIES:Advent Calendar 2023
ATTACH;FMTTYPE=image/jpeg:https://www.smellingsaltsjournal.com/wp-content/uploads/2023/11/SSJAdvent2023Day6VisittheGardiner.jpg
END:VEVENT
BEGIN:VEVENT
DTSTART;TZID=America/Toronto:20231207T000000
DTEND;TZID=America/Toronto:20231207T235959
DTSTAMP:20260415T024638
CREATED:20231207T100500Z
LAST-MODIFIED:20231130T231334Z
UID:9702-1701907200-1701993599@www.smellingsaltsjournal.com
SUMMARY:SSJ Advent 2023\, Day 7: A Journey Inward at Othership Yorkville
DESCRIPTION:Today\, I’m heading to Othership Yorkville for a Journey Inward!Read the post\n\n\n\n\n\n\n\nSSJ ADVENT 2023\, ALL THE POSTSSSJ ADVENT 2023\, CALENDAR VIEW
URL:https://www.smellingsaltsjournal.com/event/ssj-advent-2023-day-7-a-journey-inward-at-othership-yorkville/
CATEGORIES:Advent Calendar 2023
ATTACH;FMTTYPE=image/jpeg:https://www.smellingsaltsjournal.com/wp-content/uploads/2023/11/SSJAdvent2023Day7-SAUNA-OTHERSHIP.jpg
END:VEVENT
BEGIN:VEVENT
DTSTART;TZID=America/Toronto:20231208T000000
DTEND;TZID=America/Toronto:20231208T235959
DTSTAMP:20260415T024638
CREATED:20231208T100500Z
LAST-MODIFIED:20231130T231548Z
UID:9693-1701993600-1702079999@www.smellingsaltsjournal.com
SUMMARY:SSJ Advent 2023\, Day 8: Learn Sashiko
DESCRIPTION:Today\, we’re learning Sashiko and creating something special for our Holiday Table!Read the post\n\n\n\n\n\n\n\nSSJ ADVENT 2023\, ALL THE POSTSSSJ ADVENT 2023\, CALENDAR VIEW
URL:https://www.smellingsaltsjournal.com/event/ssj-advent-2023-day-8-learn-sashiko/
CATEGORIES:Advent Calendar 2023
ATTACH;FMTTYPE=image/jpeg:https://www.smellingsaltsjournal.com/wp-content/uploads/2023/11/SSJAdvent2023Day8LearnSashiko.jpg
END:VEVENT
BEGIN:VEVENT
DTSTART;TZID=America/Toronto:20231209T000000
DTEND;TZID=America/Toronto:20231209T235959
DTSTAMP:20260415T024638
CREATED:20231209T100500Z
LAST-MODIFIED:20231208T212245Z
UID:9892-1702080000-1702166399@www.smellingsaltsjournal.com
SUMMARY:SSJ Advent 2023\, Day 9: Tree Trimming Party for Two
DESCRIPTION:Tree Trimming Party with Clover Club CocktailsRead the post\n\n\n\n\n\n\n\nSSJ ADVENT 2023\, ALL THE POSTSSSJ ADVENT 2023\, CALENDAR VIEW
URL:https://www.smellingsaltsjournal.com/event/tree-trimming-party-for-two/
CATEGORIES:Advent Calendar 2023
ATTACH;FMTTYPE=image/jpeg:https://www.smellingsaltsjournal.com/wp-content/uploads/2023/11/SSJAdvent2023Day9TreeTrimmingpartyforTwowithCloverClubCocktailsandFavbouritePhotoOrnaments.jpg
END:VEVENT
BEGIN:VEVENT
DTSTART;TZID=America/Toronto:20231210T000000
DTEND;TZID=America/Toronto:20231210T235959
DTSTAMP:20260415T024638
CREATED:20231210T100500Z
LAST-MODIFIED:20231208T212306Z
UID:9623-1702166400-1702252799@www.smellingsaltsjournal.com
SUMMARY:SSJ Advent 2023\, Day 10: Xmas Stories and Diana Henry's Roast Figs\, Sugar Snow
DESCRIPTION:Today\, we’re finishing our Xmas Stories and cooking from Diana Henry.Read the post!\n\n\n\n\n\n\n\nSSJ ADVENT 2023\, ALL THE POSTSSSJ ADVENT 2023\, CALENDAR VIEW
URL:https://www.smellingsaltsjournal.com/event/ssj-advent-2023-day-10-xmas-stories-and-diana-henrys-roast-figs-sugar-snow/
CATEGORIES:Advent Calendar 2023
ATTACH;FMTTYPE=image/jpeg:https://www.smellingsaltsjournal.com/wp-content/uploads/2023/11/SSJAdvent2023Day10XmasHenry.jpg
END:VEVENT
BEGIN:VEVENT
DTSTART;TZID=America/Toronto:20231211T000000
DTEND;TZID=America/Toronto:20231211T235959
DTSTAMP:20260415T024638
CREATED:20231211T100500Z
LAST-MODIFIED:20231208T212325Z
UID:9735-1702252800-1702339199@www.smellingsaltsjournal.com
SUMMARY:SSJ Advent 2023\, Day 11: Mad for Plums\, Holiday Canning and Label Design
DESCRIPTION:Holiday Canning and Label Design!Read the post\n\n\n\n\n\n\n\nSSJ ADVENT 2023\, ALL THE POSTSSSJ ADVENT 2023\, CALENDAR VIEW
URL:https://www.smellingsaltsjournal.com/event/ssj-advent-2023-day-11-mad-for-plums-holiday-canning-and-label-design/
CATEGORIES:Advent Calendar 2023
ATTACH;FMTTYPE=image/jpeg:https://www.smellingsaltsjournal.com/wp-content/uploads/2023/11/SSJAdvent2023Day11MadforPlumsHolidayCanningandLabelDesign.jpg
END:VEVENT
BEGIN:VEVENT
DTSTART;TZID=America/Toronto:20231212T000000
DTEND;TZID=America/Toronto:20231212T235959
DTSTAMP:20260415T024638
CREATED:20231212T100500Z
LAST-MODIFIED:20231114T013315Z
UID:9621-1702339200-1702425599@www.smellingsaltsjournal.com
SUMMARY:SSJ Advent 2023\, Day 12: Contribute to Cystic Fibrosis Canada
DESCRIPTION:Today\, we’re contributing to Cystic Fibrosis Canada.Read the post!\n\n\n\n\n\n\n\nSSJ ADVENT 2023\, ALL THE POSTSSSJ ADVENT 2023\, CALENDAR VIEW
URL:https://www.smellingsaltsjournal.com/event/ssj-advent-2023-day-12-contribute-to-cystic-fibrosis-canada/
CATEGORIES:Advent Calendar 2023
ATTACH;FMTTYPE=image/jpeg:https://www.smellingsaltsjournal.com/wp-content/uploads/2023/11/SSJAdvent2023Day12CysticFibrosisCanada.jpg
END:VEVENT
BEGIN:VEVENT
DTSTART;TZID=America/Toronto:20231213T000000
DTEND;TZID=America/Toronto:20231213T235959
DTSTAMP:20260415T024638
CREATED:20231213T100500Z
LAST-MODIFIED:20231114T133445Z
UID:9630-1702425600-1702511999@www.smellingsaltsjournal.com
SUMMARY:SSJ Advent 2023\, Day 13: Sketch Night at the AGO
DESCRIPTION:Tonight\, we’re sketching at the Art Gallery of OntarioRead the post!\n\n\n\n\n\n\n\nSSJ ADVENT 2023\, ALL THE POSTSSSJ ADVENT 2023\, CALENDAR VIEW
URL:https://www.smellingsaltsjournal.com/event/ssj-advent-2023-day-13-sketch-night-at-the-ago/
CATEGORIES:Advent Calendar 2023
ATTACH;FMTTYPE=image/jpeg:https://www.smellingsaltsjournal.com/wp-content/uploads/2023/11/SSJAdvent2023Day13AGOSketchTrip.jpg
END:VEVENT
BEGIN:VEVENT
DTSTART;TZID=America/Toronto:20231214T000000
DTEND;TZID=America/Toronto:20231214T235959
DTSTAMP:20260415T024638
CREATED:20231214T100500Z
LAST-MODIFIED:20231208T212046Z
UID:9636-1702512000-1702598399@www.smellingsaltsjournal.com
SUMMARY:SSJ Advent 2023\, Day 14: Yin Yoga
DESCRIPTION:Yin Yoga Tonight!Read the post\n\n\n\n\n\n\n\nSSJ ADVENT 2023\, ALL THE POSTSSSJ ADVENT 2023\, CALENDAR VIEW
URL:https://www.smellingsaltsjournal.com/event/ssj-advent-2023-day-14-take-a-yoga-class/
CATEGORIES:Advent Calendar 2023
ATTACH;FMTTYPE=image/jpeg:https://www.smellingsaltsjournal.com/wp-content/uploads/2023/11/SSJAdvent2023Day14YogaClassatTorontoYogaCo.jpg
END:VEVENT
BEGIN:VEVENT
DTSTART;TZID=America/Toronto:20231215T000000
DTEND;TZID=America/Toronto:20231215T235959
DTSTAMP:20260415T024638
CREATED:20231215T100500Z
LAST-MODIFIED:20231208T212217Z
UID:9904-1702598400-1702684799@www.smellingsaltsjournal.com
SUMMARY:SSJ Advent 2023\, Day 15: DIY Temporary Tattoos\, Film Noir\, and Smoky Gibsons
DESCRIPTION:Tattoos\, Noir\, GibsonsRead the post\n\n\n\n\n\n\n\nSSJ ADVENT 2023\, ALL THE POSTSSSJ ADVENT 2023\, CALENDAR VIEW
URL:https://www.smellingsaltsjournal.com/event/ssj-advent-2023-day-15-diy-temporary-tattoos-film-noir-and-smoky-gibsons/
CATEGORIES:Advent Calendar 2023
ATTACH;FMTTYPE=image/jpeg:https://www.smellingsaltsjournal.com/wp-content/uploads/2023/11/SSJAdvent2023Day15DIYTemporaryTattoos-Film-Noir-Smoked-Gibsons.jpg
END:VEVENT
BEGIN:VEVENT
DTSTART;TZID=America/Toronto:20231216T000000
DTEND;TZID=America/Toronto:20231216T235959
DTSTAMP:20260415T024638
CREATED:20231216T100500Z
LAST-MODIFIED:20231208T212443Z
UID:9873-1702684800-1702771199@www.smellingsaltsjournal.com
SUMMARY:SSJ Advent 2023\, Day 16: Family Book Exchange and Italian Leaf Cookies
DESCRIPTION:Book Exchange and Leaf Cookies!Read the post\n\n\n\n\n\n\n\nSSJ ADVENT 2023\, ALL THE POSTSSSJ ADVENT 2023\, CALENDAR VIEW
URL:https://www.smellingsaltsjournal.com/event/ssj-advent-2023-day-16-family-book-exchange-and-italian-leaf-cookies/
CATEGORIES:Advent Calendar 2023
ATTACH;FMTTYPE=image/jpeg:https://www.smellingsaltsjournal.com/wp-content/uploads/2023/11/SSJAdvent2023Day16FamilyBookExchangeItalianLeafCookies.jpg
END:VEVENT
BEGIN:VEVENT
DTSTART;TZID=America/Toronto:20231217T000000
DTEND;TZID=America/Toronto:20231217T235959
DTSTAMP:20260415T024638
CREATED:20231217T100500Z
LAST-MODIFIED:20231120T031230Z
UID:9644-1702771200-1702857599@www.smellingsaltsjournal.com
SUMMARY:SSJ Advent 2023\, Day 17: Carols and Cookbook Club feat. Nigel Slater's Christmas Chronicles
DESCRIPTION:Carols and Cookbook Club IIIRead the post\n\n\n\n\n\n\n\nSSJ ADVENT 2023\, ALL THE POSTSSSJ ADVENT 2023\, CALENDAR VIEW
URL:https://www.smellingsaltsjournal.com/event/ssj-advent-2023-day-17-carols-and-cookbook-club-feat-nigel-slaters-christmas-chronicles/
CATEGORIES:Advent Calendar 2023
ATTACH;FMTTYPE=image/jpeg:https://www.smellingsaltsjournal.com/wp-content/uploads/2023/11/SSJAdvent2023Day17CarolsandCookbookClub-NIgel-Slater-Christmas-Chronicles.jpg
END:VEVENT
BEGIN:VEVENT
DTSTART;TZID=America/Toronto:20231218T000000
DTEND;TZID=America/Toronto:20231218T235959
DTSTAMP:20260415T024638
CREATED:20231218T100500Z
LAST-MODIFIED:20231218T105901Z
UID:9945-1702857600-1702943999@www.smellingsaltsjournal.com
SUMMARY:SSJ Advent 2023\, Day 18: Edible or Upcycled Christmas Table Decor
DESCRIPTION:What will we make to decorate our holiday table this year?Read the post\n\n\n\n\n\n\n\nSSJ ADVENT 2023\, ALL THE POSTSSSJ ADVENT 2023\, CALENDAR VIEW
URL:https://www.smellingsaltsjournal.com/event/ssj-advent-2023-day-18-edible-or-upcycled-christmas-table-decor/
CATEGORIES:Advent Calendar 2023
ATTACH;FMTTYPE=image/jpeg:https://www.smellingsaltsjournal.com/wp-content/uploads/2023/11/SSJAdvent2023Day18-Christmas-Table-Decor.jpg
END:VEVENT
BEGIN:VEVENT
DTSTART;TZID=America/Toronto:20231219T000000
DTEND;TZID=America/Toronto:20231219T235959
DTSTAMP:20260415T024638
CREATED:20231219T100500Z
LAST-MODIFIED:20231208T212533Z
UID:9654-1702944000-1703030399@www.smellingsaltsjournal.com
SUMMARY:SSJ Advent 2023\, Day 19: Give to Forests Ontario
DESCRIPTION:Give to Forests OntarioRead the post\n\n\n\n\n\n\n\nSSJ ADVENT 2023\, ALL THE POSTSSSJ ADVENT 2023\, CALENDAR VIEW
URL:https://www.smellingsaltsjournal.com/event/ssj-advent-2023-day-19-give-to-forests-ontario/
CATEGORIES:Advent Calendar 2023
ATTACH;FMTTYPE=image/jpeg:https://www.smellingsaltsjournal.com/wp-content/uploads/2023/11/SSJAdvent2023Day19GivetoForestsOntario.jpg
END:VEVENT
BEGIN:VEVENT
DTSTART;TZID=America/Toronto:20231220T000000
DTEND;TZID=America/Toronto:20231220T235959
DTSTAMP:20260415T024638
CREATED:20231220T100500Z
LAST-MODIFIED:20231114T161720Z
UID:9660-1703030400-1703116799@www.smellingsaltsjournal.com
SUMMARY:SSJ Advent 2023\, Day 20: Distillery Winter Village and Ladies Luncheon
DESCRIPTION:Winter Village 2023!Read the post\n\n\n\n\n\n\n\nSSJ ADVENT 2023\, ALL THE POSTSSSJ ADVENT 2023\, CALENDAR VIEW
URL:https://www.smellingsaltsjournal.com/event/ssj-advent-2023-day-20-distillery-winter-village-and-ladies-luncheon/
CATEGORIES:Advent Calendar 2023
ATTACH;FMTTYPE=image/jpeg:https://www.smellingsaltsjournal.com/wp-content/uploads/2023/11/SSJAdvent2023Day20DistilleryWinterVillageandLadiesLuncheon.jpg
END:VEVENT
BEGIN:VEVENT
DTSTART;TZID=America/Toronto:20231221T000000
DTEND;TZID=America/Toronto:20231221T235959
DTSTAMP:20260415T024638
CREATED:20231221T100500Z
LAST-MODIFIED:20231208T212604Z
UID:9666-1703116800-1703203199@www.smellingsaltsjournal.com
SUMMARY:SSJ Advent 2023\, Day 21: Urban Forest Bathing in Black and White
DESCRIPTION:Urban Forest Bathing in Black and WhiteRead the post\n\n\n\n\n\n\n\nSSJ ADVENT 2023\, ALL THE POSTSSSJ ADVENT 2023\, CALENDAR VIEW
URL:https://www.smellingsaltsjournal.com/event/ssj-advent-2023-day-21-urban-forest-bathing-in-black-and-white/
CATEGORIES:Advent Calendar 2023
ATTACH;FMTTYPE=image/jpeg:https://www.smellingsaltsjournal.com/wp-content/uploads/2023/11/SSJAdvent2023Day23UrbanForestBathinginBlackandWhite.jpg
END:VEVENT
BEGIN:VEVENT
DTSTART;TZID=America/Toronto:20231222T000000
DTEND;TZID=America/Toronto:20231222T235959
DTSTAMP:20260415T024638
CREATED:20231222T100500Z
LAST-MODIFIED:20231114T173235Z
UID:9671-1703203200-1703289599@www.smellingsaltsjournal.com
SUMMARY:SSJ Advent 2023\, Day 22: Holiday Tarot Sketch Sesh and St. Lawrence Market Cheese Tour
DESCRIPTION:Tarot Sketch Sesh and Cheese Tour!Read the post\n\n\n\n\n\n\n\nSSJ ADVENT 2023\, ALL THE POSTSSSJ ADVENT 2023\, CALENDAR VIEW
URL:https://www.smellingsaltsjournal.com/event/ssj-advent-2023-day-22-holiday-tarot-sketch-sesh-and-st-lawrence-market-cheese-tour/
CATEGORIES:Advent Calendar 2023
ATTACH;FMTTYPE=image/jpeg:https://www.smellingsaltsjournal.com/wp-content/uploads/2023/11/SSJAdvent2023Day22HolidayTarotSketchSeshandCheeseBoard.jpg
END:VEVENT
BEGIN:VEVENT
DTSTART;TZID=America/Toronto:20231223T000000
DTEND;TZID=America/Toronto:20231223T235959
DTSTAMP:20260415T024638
CREATED:20231223T100500Z
LAST-MODIFIED:20231208T212646Z
UID:9937-1703289600-1703375999@www.smellingsaltsjournal.com
SUMMARY:SSJ Advent 2023\, Day 23: Board Game and Cookie Baking Marathon
DESCRIPTION:Board Games! Cookies!Read the post\n\n\n\n\n\n\n\nSSJ ADVENT 2023\, ALL THE POSTSSSJ ADVENT 2023\, CALENDAR VIEW
URL:https://www.smellingsaltsjournal.com/event/ssj-advent-2023-day-23-board-game-and-cookie-baking-marathon/
CATEGORIES:Advent Calendar 2023
ATTACH;FMTTYPE=image/jpeg:https://www.smellingsaltsjournal.com/wp-content/uploads/2023/11/SSJAdvent2023Day23BoardGameandCookieBakingMarathon.jpg
END:VEVENT
BEGIN:VEVENT
DTSTART;TZID=America/Toronto:20231224T000000
DTEND;TZID=America/Toronto:20231224T235959
DTSTAMP:20260415T024638
CREATED:20231224T100500Z
LAST-MODIFIED:20231208T212710Z
UID:10137-1703376000-1703462399@www.smellingsaltsjournal.com
SUMMARY:SSJ Advent 2023: Christmas Eve Checklist
DESCRIPTION:It’s our annual Christmas Eve Checklist…with a Twist!Read the post\n\n\n\n\n\n\n\nSSJ ADVENT 2023\, ALL THE POSTSSSJ ADVENT 2023\, CALENDAR VIEW
URL:https://www.smellingsaltsjournal.com/event/ssj-advent-2023-christmas-eve-checklist/
CATEGORIES:Advent Calendar 2023
ATTACH;FMTTYPE=image/jpeg:https://www.smellingsaltsjournal.com/wp-content/uploads/2023/12/SSJAdvent2023Day24ChristmasEveChecklist.jpg
END:VEVENT
BEGIN:VEVENT
DTSTART;TZID=America/Toronto:20231225T000000
DTEND;TZID=America/Toronto:20231225T235959
DTSTAMP:20260415T024638
CREATED:20231225T161500Z
LAST-MODIFIED:20231208T212743Z
UID:10138-1703462400-1703548799@www.smellingsaltsjournal.com
SUMMARY:Merry Christmas\, SSJ Advent 2023 Roundup
DESCRIPTION:Merry Christmas!Read the post\n\n\n\nAnd look for our New Year’s Eve Film Fest Post on December 31st! \n\n\n\n\n\n\n\nSSJ ADVENT 2023\, ALL THE POSTSSSJ ADVENT 2023\, CALENDAR VIEW
URL:https://www.smellingsaltsjournal.com/event/merry-christmas-ssj-advent-2023-roundup/
CATEGORIES:Advent Calendar 2023
ATTACH;FMTTYPE=image/jpeg:https://www.smellingsaltsjournal.com/wp-content/uploads/2023/11/MerryChristmas2023-SSJ.jpg
END:VEVENT
BEGIN:VEVENT
DTSTART;TZID=America/Toronto:20241130T000000
DTEND;TZID=America/Toronto:20241130T235959
DTSTAMP:20260415T024638
CREATED:20241130T051500Z
LAST-MODIFIED:20241201T114956Z
UID:11716-1732924800-1733011199@www.smellingsaltsjournal.com
SUMMARY:SSJ Advent 2024\, Our Iconic Love-to-Do List is Live
DESCRIPTION:SSJ’s Iconic Love-to-Do-List is Live!Read the post!\n\n\n\n\n\n\n\nSSJ HOMESSJ ADVENT\, ALL THE POSTSSSJ ADVENT 2024\, CALENDAR VIEW
URL:https://www.smellingsaltsjournal.com/event/ssj-advent-2024-our-iconic-love-to-do-list-is-live/
CATEGORIES:Advent Calendar 2024
ATTACH;FMTTYPE=image/jpeg:https://www.smellingsaltsjournal.com/wp-content/uploads/2024/11/SSJs-2024-Advent-Love-to-Do-List.jpg
END:VEVENT
END:VCALENDAR